BEGIN:VCALENDAR
VERSION:2.0
PRODID:-//AddThisEvent.com v1.0//EN
BEGIN:VEVENT
DTSTAMP:20171010T170500Z
ORGANIZER;CN=STARTUP:MAILTO:info@startup.si
STATUS:CONFIRMED
DTSTART:20171010T170500Z
DTEND:20171010T180500Z
SUMMARY:Start:up Müsli: Skrivnost inoviranja najboljših 
DESCRIPTION:Najboljši na svetu inovirajo glede na potrebe in probleme\, ki jih imajo njihovi ciljni uporabniki. Namesto praznih domnev\, sistematično in natančno analizirajo dosedanje navade in vedenjske vzorce uporabnikov ter z različnimi metodologijami oblikujejo izhodišče za razvoj novih idej.  \n\n
X-ALT-DESC;FMTTYPE=text/html:Najboljši na svetu inovirajo glede na potrebe in probleme\, ki jih imajo njihovi ciljni uporabniki. Namesto praznih domnev\, sistematično in natančno analizirajo dosedanje navade in vedenjske vzorce uporabnikov ter z različnimi metodologijami oblikujejo izhodišče za razvoj novih idej.  \n\n
LOCATION:@KID KIBLA\, Maribor
END:VEVENT
END:VCALENDAR