BEGIN:VCALENDAR
VERSION:2.0
PRODID:-//AddThisEvent.com v1.0//EN
BEGIN:VEVENT
DTSTAMP:20170620T134500Z
ORGANIZER;CN=STARTUP:MAILTO:info@startup.si
STATUS:CONFIRMED
DTSTART:20170620T134500Z
DTEND:20170620T144500Z
SUMMARY:Delavnica: Produktivnost in upravljanje s časom
DESCRIPTION:Ali veste\, kaj ima Mark Zuckerberg\, ustanovitelj Facebooka in eden najbogatejših zemljanov napisano nad svojo pisalno mizo? »Move fast and break things«. Kirurško natančna izvršnost\, visoka produktivnost ter hitrost so v podjetništvu lahko odločilnega pomena ali vam bo uspelo ali ne; tudi če se kdaj kaj zalomi. \n\n
X-ALT-DESC;FMTTYPE=text/html:Ali veste\, kaj ima Mark Zuckerberg\, ustanovitelj Facebooka in eden najbogatejših zemljanov napisano nad svojo pisalno mizo? »Move fast and break things«. Kirurško natančna izvršnost\, visoka produktivnost ter hitrost so v podjetništvu lahko odločilnega pomena ali vam bo uspelo ali ne; tudi če se kdaj kaj zalomi. \n\n
LOCATION:Tovarna Podjemov\, podjetniški inkubator UM
END:VEVENT
END:VCALENDAR