BEGIN:VCALENDAR
VERSION:2.0
PRODID:-//AddThisEvent.com v1.0//EN
BEGIN:VEVENT
DTSTAMP:20170606T170500Z
ORGANIZER;CN=STARTUP:MAILTO:info@startup.si
STATUS:CONFIRMED
DTSTART:20170606T170500Z
DTEND:20170606T180500Z
SUMMARY:Start:up Müsli: Uspešne zgodbe hitre rasti
DESCRIPTION:Kako se hitre rasti lotevajo najboljši startupi? Kako so rastli in kakšna je njihova strategija v  prihodnosti? Ali obstaja limit\, ko taktike "growth hackinga" ne delujejo več kot bi si želeli? Kaj pa uveljavljena podjetja? Ali se ga naj poslužujejo\, ali naj ostajajo pri klasičnih marketinških prijemih?
 \n\n
X-ALT-DESC;FMTTYPE=text/html:Kako se hitre rasti lotevajo najboljši startupi? Kako so rastli in kakšna je njihova strategija v  prihodnosti? Ali obstaja limit\, ko taktike "growth hackinga" ne delujejo več kot bi si želeli? Kaj pa uveljavljena podjetja? Ali se ga naj poslužujejo\, ali naj ostajajo pri klasičnih marketinških prijemih?
 \n\n
LOCATION:KID KIBLA
END:VEVENT
END:VCALENDAR