BEGIN:VCALENDAR
VERSION:2.0
PRODID:-//AddThisEvent.com v1.0//EN
BEGIN:VEVENT
DTSTAMP:20170606T134500Z
ORGANIZER;CN=STARTUP:MAILTO:info@startup.si
STATUS:CONFIRMED
DTSTART:20170606T134500Z
DTEND:20170606T144500Z
SUMMARY:Delavnica: Nova znanja Growth Hackinga za startup podjetja
DESCRIPTION:Veliko startupov se srečuje z marketinškimi izzivi\, ker nimajo sredstev za marketing in nimajo osnovnega marketinškega znanja. Tukaj nastopi "growth hacking"\, nov pristop pri ohranjanju in pridobivanju kupcev ter zagotavljanju rasti startup podjetja.  \n\n
X-ALT-DESC;FMTTYPE=text/html:Veliko startupov se srečuje z marketinškimi izzivi\, ker nimajo sredstev za marketing in nimajo osnovnega marketinškega znanja. Tukaj nastopi "growth hacking"\, nov pristop pri ohranjanju in pridobivanju kupcev ter zagotavljanju rasti startup podjetja.  \n\n
LOCATION:Tovarna podjemov\, podjetniški inkubator UM
END:VEVENT
END:VCALENDAR