BEGIN:VCALENDAR
VERSION:2.0
PRODID:-//AddThisEvent.com v1.0//EN
BEGIN:VEVENT
DTSTAMP:20170523T170500Z
ORGANIZER;CN=STARTUP:MAILTO:info@startup.si
STATUS:CONFIRMED
DTSTART:20170523T170500Z
DTEND:20170523T180500Z
SUMMARY:Start:up Müsli: REVEEL - Od rojstva do danes 
DESCRIPTION:Reveel je najuspešnejši mariborski startup v pridobivanju investicij. Od investitorjev so v lanskem letu prejeli 2.000.000$. Ampak do tega uspeha niso prišli čez noč. Podjetje je bilo ustanovljeno leta 2013 in od takrat do danes so si pridobili mnogo neprecenljivih izkušenj\, o katerih bo govoril so-ustanovitelj Aljaž Andrejaš. \n\n
X-ALT-DESC;FMTTYPE=text/html:Reveel je najuspešnejši mariborski startup v pridobivanju investicij. Od investitorjev so v lanskem letu prejeli 2.000.000$. Ampak do tega uspeha niso prišli čez noč. Podjetje je bilo ustanovljeno leta 2013 in od takrat do danes so si pridobili mnogo neprecenljivih izkušenj\, o katerih bo govoril so-ustanovitelj Aljaž Andrejaš. \n\n
LOCATION:KID KIBLA
END:VEVENT
END:VCALENDAR