BEGIN:VCALENDAR
VERSION:2.0
PRODID:-//AddThisEvent.com v1.0//EN
BEGIN:VEVENT
DTSTAMP:20170418T170500Z
ORGANIZER;CN=STARTUP:MAILTO:info@startup.si
STATUS:CONFIRMED
DTSTART:20170418T170500Z
DTEND:20170418T180500Z
SUMMARY:Start:up Müsli: Sodelovanje velikih s startupi
DESCRIPTION:Svet startupov in svet “velikih plajerjev” se je še do nedavnega zdel nezdružjiv\, vendar pa je v zadnjem času zaznati trend\, ko si velika uveljavljena podjetja želijo sodelovati s startupi. S tem želijo povečati svojo inovacijsko aktivnost in ohranjti vodilno pozicijo na trgu. Običajno startupi s tovrstnim sodelovanjem pridejo do prodajnih kanalov in mednarodnih trgov\, do skupnega PR-ja in ”co-brandinga”. Oboji si s tovrstnim sodelovanjem obetajo koristi. \n\n
X-ALT-DESC;FMTTYPE=text/html:Svet startupov in svet “velikih plajerjev” se je še do nedavnega zdel nezdružjiv\, vendar pa je v zadnjem času zaznati trend\, ko si velika uveljavljena podjetja želijo sodelovati s startupi. S tem želijo povečati svojo inovacijsko aktivnost in ohranjti vodilno pozicijo na trgu. Običajno startupi s tovrstnim sodelovanjem pridejo do prodajnih kanalov in mednarodnih trgov\, do skupnega PR-ja in ”co-brandinga”. Oboji si s tovrstnim sodelovanjem obetajo koristi. \n\n
LOCATION:KID KIBLA
END:VEVENT
END:VCALENDAR