BEGIN:VCALENDAR
VERSION:2.0
PRODID:-//AddThisEvent.com v1.0//EN
BEGIN:VEVENT
DTSTAMP:20170321T180500Z
ORGANIZER;CN=STARTUP:MAILTO:info@startup.si
STATUS:CONFIRMED
DTSTART:20170321T180500Z
DTEND:20170321T190500Z
SUMMARY:Start:up Müsli: Podjetnik\, ki ne prodaja\, ne obstaja
DESCRIPTION:Danes je veliko zmotne promocije podjetništva\, novodobni guruji nas prepričujejo\, da je treba v življenju delati\, kar želimo\, ne to\, kar moramo. Posledično se vse več mladih spušča v podjetniške vode z idejo o idiličnem ležanju na plaži in služenju velikih denarjev: »Samo pravo idejo moram imeti«. Te sanje trajajo približno mesec dni. Nato se vsi zbudimo in ugotovimo\, da brez prodaje ni življenja. A prodaja je nekaj\, kar ne želim delati. Jaz nisem taki. Kaj naj naredim? \n\n
X-ALT-DESC;FMTTYPE=text/html:Danes je veliko zmotne promocije podjetništva\, novodobni guruji nas prepričujejo\, da je treba v življenju delati\, kar želimo\, ne to\, kar moramo. Posledično se vse več mladih spušča v podjetniške vode z idejo o idiličnem ležanju na plaži in služenju velikih denarjev: »Samo pravo idejo moram imeti«. Te sanje trajajo približno mesec dni. Nato se vsi zbudimo in ugotovimo\, da brez prodaje ni življenja. A prodaja je nekaj\, kar ne želim delati. Jaz nisem taki. Kaj naj naredim? \n\n
LOCATION:KID KIBLA
END:VEVENT
END:VCALENDAR