BEGIN:VCALENDAR
VERSION:2.0
PRODID:-//AddThisEvent.com v1.0//EN
BEGIN:VEVENT
DTSTAMP:20170228T150000Z
ORGANIZER;CN=STARTUP:MAILTO:info@startup.si
STATUS:CONFIRMED
DTSTART:20170228T150000Z
DTEND:20170228T160000Z
SUMMARY:Delavnica: Kje in kako do denarja za razvoj startupa?
DESCRIPTION:Ključna naloga podjetnika v zgodnjih fazah razvoja je zagotavljanje finančnih virov za rast in razvoj podjetja. Poleg klasičnih 4F\, bootstrapanja in poslovnih angelov so vam na voljo še javni viri Slovenskega podjetniškega sklada. \n\n
X-ALT-DESC;FMTTYPE=text/html:Ključna naloga podjetnika v zgodnjih fazah razvoja je zagotavljanje finančnih virov za rast in razvoj podjetja. Poleg klasičnih 4F\, bootstrapanja in poslovnih angelov so vam na voljo še javni viri Slovenskega podjetniškega sklada. \n\n
LOCATION:Tovarna podjemov\, podjetniški inkubator UM
END:VEVENT
END:VCALENDAR