BEGIN:VCALENDAR
VERSION:2.0
PRODID:-//AddThisEvent.com v1.0//EN
BEGIN:VEVENT
DTSTAMP:20170221T180500Z
ORGANIZER;CN=STARTUP:MAILTO:info@startup.si
STATUS:CONFIRMED
DTSTART:20170221T180500Z
DTEND:20170221T190500Z
SUMMARY:Start:up Müsli: Projektni management za startupe
DESCRIPTION:Priložnost\, da najdete delo v startupih\, ki žanjejo uspehe na globalnih tržiščih. Danes je kultura večine uspešnih podjetji usmerjena v projektno delo. Tako delo pomeni usmerjenost  v rezultate\, timsko delo\, samostojnost\, malo formalnosti\, dolgoročni uporabniki in usmerjenost v uporabnike. Projektni management je veščina\, ki je nujno potrebna za uspeh v 21. stoletju. \n\n
X-ALT-DESC;FMTTYPE=text/html:Priložnost\, da najdete delo v startupih\, ki žanjejo uspehe na globalnih tržiščih. Danes je kultura večine uspešnih podjetji usmerjena v projektno delo. Tako delo pomeni usmerjenost  v rezultate\, timsko delo\, samostojnost\, malo formalnosti\, dolgoročni uporabniki in usmerjenost v uporabnike. Projektni management je veščina\, ki je nujno potrebna za uspeh v 21. stoletju. \n\n
LOCATION:KID KIBLA
END:VEVENT
END:VCALENDAR