BEGIN:VCALENDAR
VERSION:2.0
PRODID:-//AddThisEvent.com v1.0//EN
BEGIN:VEVENT
DTSTAMP:20170124T150000Z
ORGANIZER;CN=STARTUP:MAILTO:info@startup.si
STATUS:CONFIRMED
DTSTART:20170124T150000Z
DTEND:20170124T160000Z
SUMMARY:Delavnica: Optimizacija poslovnega rezultata 2016 in koraki do učinkovitih financ 2017
DESCRIPTION:Kaj lahko naredite\, da bodo vaše bilance pravilne\, davka pa boste plačali toliko kot ga morate in nič več? Na podjetniški torek smo povabili izkušeno davčno svetovalko in računovodkinjo Simono Horvat\, ki vam bo predstavila osnove podjetniškega upravljanja financ.  Delavnica je namenjena vsem\, ki želite spoznati ključne finančne\, računovodske in davčne kategorije\, kako jih obvladovati in kako voditi podjetje\, da se ne znajde v finančnih ali davčnih težavah. \n\n
X-ALT-DESC;FMTTYPE=text/html:Kaj lahko naredite\, da bodo vaše bilance pravilne\, davka pa boste plačali toliko kot ga morate in nič več? Na podjetniški torek smo povabili izkušeno davčno svetovalko in računovodkinjo Simono Horvat\, ki vam bo predstavila osnove podjetniškega upravljanja financ.  Delavnica je namenjena vsem\, ki želite spoznati ključne finančne\, računovodske in davčne kategorije\, kako jih obvladovati in kako voditi podjetje\, da se ne znajde v finančnih ali davčnih težavah. \n\n
LOCATION:Tovarna podjemov\, podjetniški inkubator UM
END:VEVENT
END:VCALENDAR