BEGIN:VCALENDAR
VERSION:2.0
PRODID:-//AddThisEvent.com v1.0//EN
BEGIN:VEVENT
DTSTAMP:20170117T150000Z
ORGANIZER;CN=STARTUP:MAILTO:info@startup.si
STATUS:CONFIRMED
DTSTART:20170117T150000Z
DTEND:20170117T160000Z
SUMMARY:Delavnica: Kako uspeti na Kickstarter-ju?
DESCRIPTION:Kickstarter predstavlja prihodnost posla v smislu “peer to peer” interakcij. Prav tako pomeni lažji začetek novim podjetnikom\, saj ne rabijo zadolžiti ali se odreči procentom lastništva novega podjetja. Na torkovi podjetniški delavnici bo Niko Klanšek\, slovenski »Kickstarter guru«\, po korakih predstavil kako uspešno na Kickstarter \n\n
X-ALT-DESC;FMTTYPE=text/html:Kickstarter predstavlja prihodnost posla v smislu “peer to peer” interakcij. Prav tako pomeni lažji začetek novim podjetnikom\, saj ne rabijo zadolžiti ali se odreči procentom lastništva novega podjetja. Na torkovi podjetniški delavnici bo Niko Klanšek\, slovenski »Kickstarter guru«\, po korakih predstavil kako uspešno na Kickstarter \n\n
LOCATION:Tovarna podjemov\, podjetniški inkubator UM
END:VEVENT
END:VCALENDAR