BEGIN:VCALENDAR
VERSION:2.0
PRODID:-//AddThisEvent.com v1.0//EN
BEGIN:VEVENT
DTSTAMP:20161213T180500Z
ORGANIZER;CN=STARTUP:MAILTO:info@startup.si
STATUS:CONFIRMED
DTSTART:20161213T180500Z
DTEND:20161213T190500Z
SUMMARY:Start:up Müsli: V katero smer se bo razvijala tehnologija v 2017
DESCRIPTION:Na katerih področjih bo v letu 2017 tehnologija doživela razcvet in koga čaka negotova prihodnost. Kako so se tehnologije razvijale v 2016 in kakšni so obeti za 2017? \n\n
X-ALT-DESC;FMTTYPE=text/html:Na katerih področjih bo v letu 2017 tehnologija doživela razcvet in koga čaka negotova prihodnost. Kako so se tehnologije razvijale v 2016 in kakšni so obeti za 2017? \n\n
LOCATION:KID KIBLA
END:VEVENT
END:VCALENDAR